BEGIN:VCALENDAR
VERSION:2.0
PRODID:-//City of Holtville - ECPv6.15.20//NONSGML v1.0//EN
CALSCALE:GREGORIAN
METHOD:PUBLISH
X-WR-CALNAME:City of Holtville
X-ORIGINAL-URL:https://www.holtville.ca.gov
X-WR-CALDESC:Events for City of Holtville
REFRESH-INTERVAL;VALUE=DURATION:PT1H
X-Robots-Tag:noindex
X-PUBLISHED-TTL:PT1H
BEGIN:VTIMEZONE
TZID:America/Los_Angeles
BEGIN:DAYLIGHT
TZOFFSETFROM:-0800
TZOFFSETTO:-0700
TZNAME:PDT
DTSTART:20250309T100000
END:DAYLIGHT
BEGIN:STANDARD
TZOFFSETFROM:-0700
TZOFFSETTO:-0800
TZNAME:PST
DTSTART:20251102T090000
END:STANDARD
BEGIN:DAYLIGHT
TZOFFSETFROM:-0800
TZOFFSETTO:-0700
TZNAME:PDT
DTSTART:20260308T100000
END:DAYLIGHT
BEGIN:STANDARD
TZOFFSETFROM:-0700
TZOFFSETTO:-0800
TZNAME:PST
DTSTART:20261101T090000
END:STANDARD
BEGIN:DAYLIGHT
TZOFFSETFROM:-0800
TZOFFSETTO:-0700
TZNAME:PDT
DTSTART:20270314T100000
END:DAYLIGHT
BEGIN:STANDARD
TZOFFSETFROM:-0700
TZOFFSETTO:-0800
TZNAME:PST
DTSTART:20271107T090000
END:STANDARD
END:VTIMEZONE
BEGIN:VEVENT
DTSTART;TZID=America/Los_Angeles:20260704T180000
DTEND;TZID=America/Los_Angeles:20260704T220000
DTSTAMP:20260423T204731
CREATED:20260304T231328Z
LAST-MODIFIED:20260305T003209Z
UID:5444-1783188000-1783202400@www.holtville.ca.gov
SUMMARY:Time Capsule Opening
DESCRIPTION:
URL:https://www.holtville.ca.gov/events/time-capsule-opening/
LOCATION:Holt Park\, w 5th st & Pine Ave\, Holtville\, CA\, United States
END:VEVENT
END:VCALENDAR